BEGIN:VCALENDAR
VERSION:2.0
PRODID:-//Grundschule &quot;Blauer Planet&quot; Annahütte - ECPv6.15.20//NONSGML v1.0//EN
CALSCALE:GREGORIAN
METHOD:PUBLISH
X-ORIGINAL-URL:https://www.grundschule-blauerplanet.de
X-WR-CALDESC:Veranstaltungen für Grundschule &quot;Blauer Planet&quot; Annahütte
REFRESH-INTERVAL;VALUE=DURATION:PT1H
X-Robots-Tag:noindex
X-PUBLISHED-TTL:PT1H
BEGIN:VTIMEZONE
TZID:Europe/Berlin
BEGIN:DAYLIGHT
TZOFFSETFROM:+0100
TZOFFSETTO:+0200
TZNAME:CEST
DTSTART:20250330T010000
END:DAYLIGHT
BEGIN:STANDARD
TZOFFSETFROM:+0200
TZOFFSETTO:+0100
TZNAME:CET
DTSTART:20251026T010000
END:STANDARD
BEGIN:DAYLIGHT
TZOFFSETFROM:+0100
TZOFFSETTO:+0200
TZNAME:CEST
DTSTART:20260329T010000
END:DAYLIGHT
BEGIN:STANDARD
TZOFFSETFROM:+0200
TZOFFSETTO:+0100
TZNAME:CET
DTSTART:20261025T010000
END:STANDARD
BEGIN:DAYLIGHT
TZOFFSETFROM:+0100
TZOFFSETTO:+0200
TZNAME:CEST
DTSTART:20270328T010000
END:DAYLIGHT
BEGIN:STANDARD
TZOFFSETFROM:+0200
TZOFFSETTO:+0100
TZNAME:CET
DTSTART:20271031T010000
END:STANDARD
END:VTIMEZONE
BEGIN:VEVENT
DTSTART;TZID=Europe/Berlin:20260327T075000
DTEND;TZID=Europe/Berlin:20260327T113000
DTSTAMP:20260420T182340
CREATED:20260323T175216Z
LAST-MODIFIED:20260323T175216Z
UID:530-1774597800-1774611000@www.grundschule-blauerplanet.de
SUMMARY:Oster-Projekt
DESCRIPTION:
URL:https://www.grundschule-blauerplanet.de/event/oster-projekt/
END:VEVENT
END:VCALENDAR